BEGIN:VCALENDAR
VERSION:2.0
PRODID:-//Thomas Jefferson Planning District Commission - ECPv6.15.13//NONSGML v1.0//EN
CALSCALE:GREGORIAN
METHOD:PUBLISH
X-WR-CALNAME:Thomas Jefferson Planning District Commission
X-ORIGINAL-URL:https://tjpdc.org
X-WR-CALDESC:Events for Thomas Jefferson Planning District Commission
REFRESH-INTERVAL;VALUE=DURATION:PT1H
X-Robots-Tag:noindex
X-PUBLISHED-TTL:PT1H
BEGIN:VTIMEZONE
TZID:America/New_York
BEGIN:DAYLIGHT
TZOFFSETFROM:-0500
TZOFFSETTO:-0400
TZNAME:EDT
DTSTART:20240310T070000
END:DAYLIGHT
BEGIN:STANDARD
TZOFFSETFROM:-0400
TZOFFSETTO:-0500
TZNAME:EST
DTSTART:20241103T060000
END:STANDARD
BEGIN:DAYLIGHT
TZOFFSETFROM:-0500
TZOFFSETTO:-0400
TZNAME:EDT
DTSTART:20250309T070000
END:DAYLIGHT
BEGIN:STANDARD
TZOFFSETFROM:-0400
TZOFFSETTO:-0500
TZNAME:EST
DTSTART:20251102T060000
END:STANDARD
BEGIN:DAYLIGHT
TZOFFSETFROM:-0500
TZOFFSETTO:-0400
TZNAME:EDT
DTSTART:20260308T070000
END:DAYLIGHT
BEGIN:STANDARD
TZOFFSETFROM:-0400
TZOFFSETTO:-0500
TZNAME:EST
DTSTART:20261101T060000
END:STANDARD
END:VTIMEZONE
BEGIN:VEVENT
DTSTART;TZID=America/New_York:20251002T190000
DTEND;TZID=America/New_York:20251002T210000
DTSTAMP:20260420T041046
CREATED:20250129T190347Z
LAST-MODIFIED:20250129T190347Z
UID:18763-1759431600-1759438800@tjpdc.org
SUMMARY:Commission Meeting
DESCRIPTION:The TJPDC is guided by a locally appointed\, twelve member Commission\, of which at least 51% are local elected officials. Member localities include the City of Charlottesville and the Counties of Albemarle\, Fluvanna\, Greene\, Louisa\, and Nelson. Commission meetings\, which are open to the public\, are held the first Thursday of each month at 7 pm in the TJPDC Office. Click here for meeting materials
URL:https://tjpdc.org/events/commission-meeting-2025-10-02/
LOCATION:Water Street Center\, 407 E. Water St.\, Charlottesville\, VA\, 22902\, United States
CATEGORIES:Calendar,Commission Meeting
END:VEVENT
BEGIN:VEVENT
DTSTART;TZID=America/New_York:20251007T100000
DTEND;TZID=America/New_York:20251007T120000
DTSTAMP:20260420T041046
CREATED:20250129T175547Z
LAST-MODIFIED:20250619T182746Z
UID:18745-1759831200-1759838400@tjpdc.org
SUMMARY:MPO Tech Committee
DESCRIPTION:The MPO Technical Committee consists of planning staff from State agencies and local departments\, to provide a technical perspective to transportation. The Committee reviews and develops plans for consideration by the MPO Policy Board. It analyzes proposals for technical feasibility and can help implement proposals after adoption by the MPO or a locality. \nThe MPO Tech Committee meets on the 1st Tuesday each month\, 10:00 a.m. at the Water Street Center\, 407 E. Water Street\, Charlottesville\, VA 22902 \nView Meeting Materials
URL:https://tjpdc.org/events/mpo-tech-committee-2025-10-07/
LOCATION:Water Street Center\, 407 E. Water St.\, Charlottesville\, VA\, 22902\, United States
CATEGORIES:Calendar
END:VEVENT
BEGIN:VEVENT
DTSTART;TZID=America/New_York:20251022T130000
DTEND;TZID=America/New_York:20251022T143000
DTSTAMP:20260420T041046
CREATED:20250922T190915Z
LAST-MODIFIED:20250922T200240Z
UID:19915-1761138000-1761143400@tjpdc.org
SUMMARY:RHP Executive Committee
DESCRIPTION:RHP Executive Committee\nThe Regional Housing Partnership (RHP) serves as an official advisory board\, created by the Thomas Jefferson Planning District Commission\, in partnership with the public\, private\, nonprofit\, and citizen stakeholders related to housing. The Regional Housing Partnership (RHP) addresses the housing needs of the Thomas Jefferson Planning District’s region\, with a focus on housing production\, diversity\, accessibility\, cost\, location\, design\, and increasing stability for the region’s residents. \nMeeting Materials \nZoom Meeting \nDial in on phone: 301-715-8592
URL:https://tjpdc.org/events/rhp-executive-committee-2025-10-22/
LOCATION:Water Street Center\, 407 E. Water St.\, Charlottesville\, VA\, 22902\, United States
CATEGORIES:Calendar,Regional Housing Partnership
END:VEVENT
BEGIN:VEVENT
DTSTART;TZID=America/New_York:20251022T163000
DTEND;TZID=America/New_York:20251022T183000
DTSTAMP:20260420T041046
CREATED:20250128T182546Z
LAST-MODIFIED:20250709T191614Z
UID:18717-1761150600-1761157800@tjpdc.org
SUMMARY:MPO Policy Board
DESCRIPTION:The MPO is the region’s transportation policy body\, when it comes to federally funded projects. As is required by statute\, the MPO carries out a continuing\, cooperative and comprehensive transportation planning process for the City of Charlottesville and the urbanized areas of Albemarle County that surrounds the City. \nThe MPO Policy Board meets on the 4th Wednesday of alternating months\, 4:30 p.m. at the Water Street Center\, 407 E. Water St. Charlottesville\, VA 22902 \nMeeting Materials
URL:https://tjpdc.org/events/mpo-policy-board-2025-10-22/
LOCATION:Water Street Center\, 407 E. Water St.\, Charlottesville\, VA\, 22902\, United States
CATEGORIES:Calendar
END:VEVENT
BEGIN:VEVENT
DTSTART;TZID=America/New_York:20251023T160000
DTEND;TZID=America/New_York:20251023T180000
DTSTAMP:20260420T041046
CREATED:20250325T214935Z
LAST-MODIFIED:20250325T214935Z
UID:19100-1761235200-1761242400@tjpdc.org
SUMMARY:Regional Transit Partnership
DESCRIPTION:The Regional Transit Partnership (RTP) serves as an official advisory board\, created by the City of Charlottesville\, Albemarle County and JAUNT\, in Partnership with the Virginia Department of Rail and Public Transportation to provide recommendations to decision-makers on transit-related matters. \nThe RTP meets on the 4th Thursday of every other month\, 4:00 p.m at the Water Street Center\, 407 E. Water Street Charlottesville\, VA 22902 \nMeeting Materials
URL:https://tjpdc.org/events/regional-transit-partnership-2025-10-23/
LOCATION:Water Street Center\, 407 E. Water St.\, Charlottesville\, VA\, 22902\, United States
CATEGORIES:Calendar
END:VEVENT
END:VCALENDAR