BEGIN:VCALENDAR
VERSION:2.0
PRODID:-//Thomas Jefferson Planning District Commission - ECPv6.15.13//NONSGML v1.0//EN
CALSCALE:GREGORIAN
METHOD:PUBLISH
X-WR-CALNAME:Thomas Jefferson Planning District Commission
X-ORIGINAL-URL:https://tjpdc.org
X-WR-CALDESC:Events for Thomas Jefferson Planning District Commission
REFRESH-INTERVAL;VALUE=DURATION:PT1H
X-Robots-Tag:noindex
X-PUBLISHED-TTL:PT1H
BEGIN:VTIMEZONE
TZID:America/New_York
BEGIN:DAYLIGHT
TZOFFSETFROM:-0500
TZOFFSETTO:-0400
TZNAME:EDT
DTSTART:20240310T070000
END:DAYLIGHT
BEGIN:STANDARD
TZOFFSETFROM:-0400
TZOFFSETTO:-0500
TZNAME:EST
DTSTART:20241103T060000
END:STANDARD
BEGIN:DAYLIGHT
TZOFFSETFROM:-0500
TZOFFSETTO:-0400
TZNAME:EDT
DTSTART:20250309T070000
END:DAYLIGHT
BEGIN:STANDARD
TZOFFSETFROM:-0400
TZOFFSETTO:-0500
TZNAME:EST
DTSTART:20251102T060000
END:STANDARD
BEGIN:DAYLIGHT
TZOFFSETFROM:-0500
TZOFFSETTO:-0400
TZNAME:EDT
DTSTART:20260308T070000
END:DAYLIGHT
BEGIN:STANDARD
TZOFFSETFROM:-0400
TZOFFSETTO:-0500
TZNAME:EST
DTSTART:20261101T060000
END:STANDARD
END:VTIMEZONE
BEGIN:VEVENT
DTSTART;TZID=America/New_York:20251202T100000
DTEND;TZID=America/New_York:20251202T120000
DTSTAMP:20260419T235258
CREATED:20250129T180323Z
LAST-MODIFIED:20250619T183016Z
UID:18755-1764669600-1764676800@tjpdc.org
SUMMARY:MPO Tech Committee
DESCRIPTION:The MPO Technical Committee consists of planning staff from State agencies and local departments\, to provide a technical perspective to transportation. The Committee reviews and develops plans for consideration by the MPO Policy Board. It analyzes proposals for technical feasibility and can help implement proposals after adoption by the MPO or a locality. \nThe MPO Tech Committee meets on the 1st Tuesday each month\, 10:00 a.m. at the Water Street Center\, 407 E. Water Street\, Charlottesville\, VA 22902 \nView Meeting Materials
URL:https://tjpdc.org/events/mpo-tech-committee-2025-12-02-2/
LOCATION:Water Street Center\, 407 E. Water St.\, Charlottesville\, VA\, 22902\, United States
CATEGORIES:Calendar
END:VEVENT
BEGIN:VEVENT
DTSTART;TZID=America/New_York:20251202T100000
DTEND;TZID=America/New_York:20251202T120000
DTSTAMP:20260419T235258
CREATED:20250325T213754Z
LAST-MODIFIED:20250619T182414Z
UID:19093-1764669600-1764676800@tjpdc.org
SUMMARY:MPO Tech Committee
DESCRIPTION:The MPO Technical Committee consists of planning staff from State agencies and local departments\, to provide a technical perspective to transportation. The Committee reviews and develops plans for consideration by the MPO Policy Board. It analyzes proposals for technical feasibility and can help implement proposals after adoption by the MPO or a locality. \nThe MPO Tech Committee meets on the 1st Tuesday each month\, 10:00 a.m. at the Water Street Center\, 407 E. Water Street\, Charlottesville\, VA 22902 \nView Meeting Materials
URL:https://tjpdc.org/events/mpo-tech-committee-2025-12-02/
LOCATION:Water Street Center\, 407 E. Water St.\, Charlottesville\, VA\, 22902\, United States
CATEGORIES:Calendar
END:VEVENT
BEGIN:VEVENT
DTSTART;TZID=America/New_York:20251204T190000
DTEND;TZID=America/New_York:20251204T210000
DTSTAMP:20260419T235258
CREATED:20250129T190544Z
LAST-MODIFIED:20250129T190544Z
UID:18767-1764874800-1764882000@tjpdc.org
SUMMARY:Commission Meeting
DESCRIPTION:The TJPDC is guided by a locally appointed\, twelve member Commission\, of which at least 51% are local elected officials. Member localities include the City of Charlottesville and the Counties of Albemarle\, Fluvanna\, Greene\, Louisa\, and Nelson. Commission meetings\, which are open to the public\, are held the first Thursday of each month at 7 pm in the TJPDC Office. Click here for meeting materials
URL:https://tjpdc.org/events/commission-meeting-2025-12-04/
LOCATION:Water Street Center\, 407 E. Water St.\, Charlottesville\, VA\, 22902\, United States
CATEGORIES:Calendar,Commission Meeting
END:VEVENT
BEGIN:VEVENT
DTSTART;TZID=America/New_York:20251217T130000
DTEND;TZID=America/New_York:20251217T150000
DTSTAMP:20260419T235258
CREATED:20250922T200657Z
LAST-MODIFIED:20250922T200721Z
UID:19935-1765976400-1765983600@tjpdc.org
SUMMARY:RHP Full Partnership Meeting
DESCRIPTION:The Regional Housing Partnership (RHP) serves as an official advisory board\, created by the Thomas Jefferson Planning District Commission\, in partnership with the public\, private\, nonprofit\, and citizen stakeholders related to housing. The Regional Housing Partnership (RHP) addresses the housing needs of the Thomas Jefferson Planning District’s region\, with a focus on housing production\, diversity\, accessibility\, cost\, location\, design\, and increasing stability for the region’s residents. \nMeeting Materials \nZoom Meeting \nDial by your location\n+1 301 715 8592 US
URL:https://tjpdc.org/events/rhp-full-partnership-meeting-2025-12-17/
LOCATION:Virtual Zoom Meeting
CATEGORIES:Calendar,Regional Housing Partnership
END:VEVENT
BEGIN:VEVENT
DTSTART;TZID=America/New_York:20251217T160000
DTEND;TZID=America/New_York:20251217T180000
DTSTAMP:20260419T235258
CREATED:20250325T213636Z
LAST-MODIFIED:20251230T174443Z
UID:19091-1765987200-1765994400@tjpdc.org
SUMMARY:MPO Policy Board
DESCRIPTION:The MPO is the region’s transportation policy body\, when it comes to federally funded projects. As is required by statute\, the MPO carries out a continuing\, cooperative and comprehensive transportation planning process for the City of Charlottesville and the urbanized areas of Albemarle County that surrounds the City. \nThe MPO Policy Board meets on the 4th Wednesday of alternating months\, 4:00 p.m. \nMeeting Materials
URL:https://tjpdc.org/events/mpo-policy-board-2025-12-17/
LOCATION:Virtual Zoom Meeting
CATEGORIES:Calendar
END:VEVENT
END:VCALENDAR