BEGIN:VCALENDAR
VERSION:2.0
PRODID:-//Thomas Jefferson Planning District Commission - ECPv6.15.13//NONSGML v1.0//EN
CALSCALE:GREGORIAN
METHOD:PUBLISH
X-WR-CALNAME:Thomas Jefferson Planning District Commission
X-ORIGINAL-URL:https://tjpdc.org
X-WR-CALDESC:Events for Thomas Jefferson Planning District Commission
REFRESH-INTERVAL;VALUE=DURATION:PT1H
X-Robots-Tag:noindex
X-PUBLISHED-TTL:PT1H
BEGIN:VTIMEZONE
TZID:America/New_York
BEGIN:DAYLIGHT
TZOFFSETFROM:-0500
TZOFFSETTO:-0400
TZNAME:EDT
DTSTART:20250309T070000
END:DAYLIGHT
BEGIN:STANDARD
TZOFFSETFROM:-0400
TZOFFSETTO:-0500
TZNAME:EST
DTSTART:20251102T060000
END:STANDARD
BEGIN:DAYLIGHT
TZOFFSETFROM:-0500
TZOFFSETTO:-0400
TZNAME:EDT
DTSTART:20260308T070000
END:DAYLIGHT
BEGIN:STANDARD
TZOFFSETFROM:-0400
TZOFFSETTO:-0500
TZNAME:EST
DTSTART:20261101T060000
END:STANDARD
BEGIN:DAYLIGHT
TZOFFSETFROM:-0500
TZOFFSETTO:-0400
TZNAME:EDT
DTSTART:20270314T070000
END:DAYLIGHT
BEGIN:STANDARD
TZOFFSETFROM:-0400
TZOFFSETTO:-0500
TZNAME:EST
DTSTART:20271107T060000
END:STANDARD
END:VTIMEZONE
BEGIN:VEVENT
DTSTART;TZID=America/New_York:20260122T170000
DTEND;TZID=America/New_York:20260122T183000
DTSTAMP:20260419T151830
CREATED:20251006T170727Z
LAST-MODIFIED:20251212T013527Z
UID:20096-1769101200-1769106600@tjpdc.org
SUMMARY:Charlottesville Albemarle Regional Transit Authority
DESCRIPTION:CARTA meets the 4th Thursday of the odd numbered months at 5 p.m. in the TJPDC’s conference room 1. Guests can view the meeting on Zoom as well as in person. See the meeting agenda for Zoom connection information. \nThe CA-MPO meetings are conducted in accessible locations and materials can be provided in accessible formats and in languages other than English. If you would like accessibility or language accommodation\, please contact the Title VI Coordinator at info@tjpdc.org or 434-979-7310. \nZoom meeting: https://us02web.zoom.us/j/87664849564?pwd=Y9JAe2lU4YvRQOfwT7hxGrypfMoxsG.1 \nMeeting Materials
URL:https://tjpdc.org/events/carta-2026-01-22/
LOCATION:Virtual Zoom Meeting
CATEGORIES:Calendar,CARTA
END:VEVENT
BEGIN:VEVENT
DTSTART;TZID=America/New_York:20260128T130000
DTEND;TZID=America/New_York:20260128T143000
DTSTAMP:20260419T151830
CREATED:20250922T200104Z
LAST-MODIFIED:20250922T200104Z
UID:19930-1769605200-1769610600@tjpdc.org
SUMMARY:RHP Executive Committee
DESCRIPTION:RHP Executive Committee\nThe Regional Housing Partnership (RHP) serves as an official advisory board\, created by the Thomas Jefferson Planning District Commission\, in partnership with the public\, private\, nonprofit\, and citizen stakeholders related to housing. The Regional Housing Partnership (RHP) addresses the housing needs of the Thomas Jefferson Planning District’s region\, with a focus on housing production\, diversity\, accessibility\, cost\, location\, design\, and increasing stability for the region’s residents. \nMeeting Materials \nZoom Meeting \nDial in on phone: 301-715-8592
URL:https://tjpdc.org/events/rhp-executive-committee-2026-01-28/
LOCATION:Virtual Zoom Meeting
CATEGORIES:Calendar,Regional Housing Partnership
END:VEVENT
END:VCALENDAR