BEGIN:VCALENDAR
VERSION:2.0
PRODID:-//Thomas Jefferson Planning District Commission - ECPv6.15.13//NONSGML v1.0//EN
CALSCALE:GREGORIAN
METHOD:PUBLISH
X-WR-CALNAME:Thomas Jefferson Planning District Commission
X-ORIGINAL-URL:https://tjpdc.org
X-WR-CALDESC:Events for Thomas Jefferson Planning District Commission
REFRESH-INTERVAL;VALUE=DURATION:PT1H
X-Robots-Tag:noindex
X-PUBLISHED-TTL:PT1H
BEGIN:VTIMEZONE
TZID:America/New_York
BEGIN:DAYLIGHT
TZOFFSETFROM:-0500
TZOFFSETTO:-0400
TZNAME:EDT
DTSTART:20250309T070000
END:DAYLIGHT
BEGIN:STANDARD
TZOFFSETFROM:-0400
TZOFFSETTO:-0500
TZNAME:EST
DTSTART:20251102T060000
END:STANDARD
BEGIN:DAYLIGHT
TZOFFSETFROM:-0500
TZOFFSETTO:-0400
TZNAME:EDT
DTSTART:20260308T070000
END:DAYLIGHT
BEGIN:STANDARD
TZOFFSETFROM:-0400
TZOFFSETTO:-0500
TZNAME:EST
DTSTART:20261101T060000
END:STANDARD
BEGIN:DAYLIGHT
TZOFFSETFROM:-0500
TZOFFSETTO:-0400
TZNAME:EDT
DTSTART:20270314T070000
END:DAYLIGHT
BEGIN:STANDARD
TZOFFSETFROM:-0400
TZOFFSETTO:-0500
TZNAME:EST
DTSTART:20271107T060000
END:STANDARD
END:VTIMEZONE
BEGIN:VEVENT
DTSTART;TZID=America/New_York:20260305T190000
DTEND;TZID=America/New_York:20260305T210000
DTSTAMP:20260419T103848
CREATED:20260219T234705Z
LAST-MODIFIED:20260219T234705Z
UID:20634-1772737200-1772744400@tjpdc.org
SUMMARY:Commission Meeting
DESCRIPTION:The TJPDC is guided by a locally appointed\, twelve member Commission\, of which at least 51% are local elected officials. Member localities include the City of Charlottesville and the Counties of Albemarle\, Fluvanna\, Greene\, Louisa\, and Nelson. Commission meetings\, which are open to the public\, are held the first Thursday of each month at 7 pm in the TJPDC Office. \nSPECIAL NOTE: This meeting will be help in the conference room at the Chair’s office building\, 2401 Hydraulic Road (Corner of Hydraulic and Inglewood)  Exterior signage says Helix Systems. \nClick here for meeting materials
URL:https://tjpdc.org/events/commission-meeting-2026-03-05/
LOCATION:Chair’s Office Building\, 2401 Hydraulic Rd\, Charlottesville\, 22901\, United States
CATEGORIES:Calendar,Commission Meeting
END:VEVENT
BEGIN:VEVENT
DTSTART;TZID=America/New_York:20260320T150000
DTEND;TZID=America/New_York:20260320T170000
DTSTAMP:20260419T103848
CREATED:20260312T165154Z
LAST-MODIFIED:20260312T165154Z
UID:20722-1774018800-1774026000@tjpdc.org
SUMMARY:MPO Policy Board
DESCRIPTION:The MPO is the region’s transportation policy body\, when it comes to federally funded projects. As is required by statute\, the MPO carries out a continuing\, cooperative and comprehensive transportation planning process for the City of Charlottesville and the urbanized areas of Albemarle County that surrounds the City. \nThe MPO Policy Board meets on the 4th Wednesday of alternating months\, 4:00 p.m. at the Water Street Center\, 407 E. Water St. Charlottesville\, VA 22902 \n*Special Meeting* \nMeeting Materials
URL:https://tjpdc.org/events/mpo-policy-board-2026-03-20/
LOCATION:Albemarle County Office Building\, 401 McIntire Road\, Charlottesville\, VA\, 22902\, United States
CATEGORIES:Calendar
END:VEVENT
BEGIN:VEVENT
DTSTART;TZID=America/New_York:20260325T090000
DTEND;TZID=America/New_York:20260325T110000
DTSTAMP:20260419T103848
CREATED:20251006T170822Z
LAST-MODIFIED:20260312T164318Z
UID:20098-1774429200-1774436400@tjpdc.org
SUMMARY:Charlottesville Albemarle Regional Transit Authority
DESCRIPTION:CARTA meets the 4th Thursday of the odd numbered months at 5 p.m. in the TJPDC’s conference room 1. Guests can view the meeting on Zoom as well as in person. See the meeting agenda for Zoom connection information. \nThe CA-MPO meetings are conducted in accessible locations and materials can be provided in accessible formats and in languages other than English. If you would like accessibility or language accommodation\, please contact the Title VI Coordinator at info@tjpdc.org or 434-979-7310. \nMeeting Materials
URL:https://tjpdc.org/events/carta-2026-03-25/
LOCATION:Water Street Center\, 407 E. Water St.\, Charlottesville\, VA\, 22902\, United States
CATEGORIES:Calendar,CARTA
END:VEVENT
BEGIN:VEVENT
DTSTART;TZID=America/New_York:20260325T130000
DTEND;TZID=America/New_York:20260325T150000
DTSTAMP:20260419T103848
CREATED:20250922T200852Z
LAST-MODIFIED:20250922T200852Z
UID:19937-1774443600-1774450800@tjpdc.org
SUMMARY:RHP Full Partnership Meeting
DESCRIPTION:The Regional Housing Partnership (RHP) serves as an official advisory board\, created by the Thomas Jefferson Planning District Commission\, in partnership with the public\, private\, nonprofit\, and citizen stakeholders related to housing. The Regional Housing Partnership (RHP) addresses the housing needs of the Thomas Jefferson Planning District’s region\, with a focus on housing production\, diversity\, accessibility\, cost\, location\, design\, and increasing stability for the region’s residents. \nMeeting Materials \nZoom Meeting \nDial by your location\n+1 301 715 8592 US
URL:https://tjpdc.org/events/rhp-full-partnership-meeting-2026-03-25/
LOCATION:Water Street Center\, 407 E. Water St.\, Charlottesville\, VA\, 22902\, United States
CATEGORIES:Calendar,Regional Housing Partnership
END:VEVENT
END:VCALENDAR