BEGIN:VCALENDAR
VERSION:2.0
PRODID:-//Thomas Jefferson Planning District Commission - ECPv6.15.13//NONSGML v1.0//EN
CALSCALE:GREGORIAN
METHOD:PUBLISH
X-WR-CALNAME:Thomas Jefferson Planning District Commission
X-ORIGINAL-URL:https://tjpdc.org
X-WR-CALDESC:Events for Thomas Jefferson Planning District Commission
REFRESH-INTERVAL;VALUE=DURATION:PT1H
X-Robots-Tag:noindex
X-PUBLISHED-TTL:PT1H
BEGIN:VTIMEZONE
TZID:America/New_York
BEGIN:DAYLIGHT
TZOFFSETFROM:-0500
TZOFFSETTO:-0400
TZNAME:EDT
DTSTART:20190310T070000
END:DAYLIGHT
BEGIN:STANDARD
TZOFFSETFROM:-0400
TZOFFSETTO:-0500
TZNAME:EST
DTSTART:20191103T060000
END:STANDARD
BEGIN:DAYLIGHT
TZOFFSETFROM:-0500
TZOFFSETTO:-0400
TZNAME:EDT
DTSTART:20200308T070000
END:DAYLIGHT
BEGIN:STANDARD
TZOFFSETFROM:-0400
TZOFFSETTO:-0500
TZNAME:EST
DTSTART:20201101T060000
END:STANDARD
BEGIN:DAYLIGHT
TZOFFSETFROM:-0500
TZOFFSETTO:-0400
TZNAME:EDT
DTSTART:20210314T070000
END:DAYLIGHT
BEGIN:STANDARD
TZOFFSETFROM:-0400
TZOFFSETTO:-0500
TZNAME:EST
DTSTART:20211107T060000
END:STANDARD
BEGIN:DAYLIGHT
TZOFFSETFROM:-0500
TZOFFSETTO:-0400
TZNAME:EDT
DTSTART:20220313T070000
END:DAYLIGHT
BEGIN:STANDARD
TZOFFSETFROM:-0400
TZOFFSETTO:-0500
TZNAME:EST
DTSTART:20221106T060000
END:STANDARD
BEGIN:DAYLIGHT
TZOFFSETFROM:-0500
TZOFFSETTO:-0400
TZNAME:EDT
DTSTART:20230312T070000
END:DAYLIGHT
BEGIN:STANDARD
TZOFFSETFROM:-0400
TZOFFSETTO:-0500
TZNAME:EST
DTSTART:20231105T060000
END:STANDARD
BEGIN:DAYLIGHT
TZOFFSETFROM:-0500
TZOFFSETTO:-0400
TZNAME:EDT
DTSTART:20240310T070000
END:DAYLIGHT
BEGIN:STANDARD
TZOFFSETFROM:-0400
TZOFFSETTO:-0500
TZNAME:EST
DTSTART:20241103T060000
END:STANDARD
BEGIN:DAYLIGHT
TZOFFSETFROM:-0500
TZOFFSETTO:-0400
TZNAME:EDT
DTSTART:20250309T070000
END:DAYLIGHT
BEGIN:STANDARD
TZOFFSETFROM:-0400
TZOFFSETTO:-0500
TZNAME:EST
DTSTART:20251102T060000
END:STANDARD
END:VTIMEZONE
BEGIN:VEVENT
DTSTART;TZID=America/New_York:20240606T190000
DTEND;TZID=America/New_York:20240606T210000
DTSTAMP:20260419T155205
CREATED:20231106T165603Z
LAST-MODIFIED:20240207T215553Z
UID:12249-1717700400-1717707600@tjpdc.org
SUMMARY:Commission Meeting
DESCRIPTION:The TJPDC is guided by a locally appointed\, twelve member Commission\, of which at least 51% are local elected officials. Member localities include the City of Charlottesville and the Counties of Albemarle\, Fluvanna\, Greene\, Louisa\, and Nelson. Commission meetings\, which are open to the public\, are held the first Thursday of each month at 7 pm in the TJPDC Office. Click here for meeting materials
URL:https://tjpdc.org/events/commission-meeting-2024-06-06/
LOCATION:Water Street Center\, 407 E. Water St.\, Charlottesville\, VA\, 22902\, United States
CATEGORIES:Calendar,Commission Meeting
END:VEVENT
BEGIN:VEVENT
DTSTART;TZID=America/New_York:20240522T140000
DTEND;TZID=America/New_York:20240522T153000
DTSTAMP:20260419T155205
CREATED:20230815T161750Z
LAST-MODIFIED:20240228T161700Z
UID:11817-1716386400-1716391800@tjpdc.org
SUMMARY:RHP Executive Committee
DESCRIPTION:The Regional Housing Partnership (RHP) serves as an official advisory board\, created by the Thomas Jefferson Planning District Commission\, in partnership with the public\, private\, nonprofit\, and citizen stakeholders related to housing. The Regional Housing Partnership (RHP) addresses the housing needs of the Thomas Jefferson Planning District’s region\, with a focus on housing production\, diversity\, accessibility\, cost\, location\, design\, and increasing stability for the region’s residents. \nExecutive Committee\nMeets on the 4th Wednesday of each month at 2pm (except for months the full Partnership meets) \nMeeting Materials \nZoom Meeting\nMeeting ID: 828 1425 1573\nPasscode: 672878 \nDial in on phone: 301-715-8592
URL:https://tjpdc.org/events/rhp-executive-committee-2024-05-22/
LOCATION:Water Street Center\, 407 E. Water St.\, Charlottesville\, VA\, 22902\, United States
CATEGORIES:Calendar,Regional Housing Partnership
END:VEVENT
BEGIN:VEVENT
DTSTART;TZID=America/New_York:20240521T130000
DTEND;TZID=America/New_York:20240521T153000
DTSTAMP:20260419T155205
CREATED:20231106T170037Z
LAST-MODIFIED:20240228T162537Z
UID:12255-1716296400-1716305400@tjpdc.org
SUMMARY:Rural Transportation Advisory Committee
DESCRIPTION:The Rural Transportation Advisory Committee (RTAC)\, is an advisory group for the TJPDC’s Rural Transportation Planning Program. The RTAC includes individuals with technical knowledge in transportation and land use matters. The region’s five counties (Albemarle\, Fluvanna\, Greene\, Louisa and Nelson) are represented on the Committee\, through the local planning director. VDOT\, RideShare and JAUNT also have voting representatives. Meeting Materials
URL:https://tjpdc.org/events/rural-transportation-advisory-committee-2024-05-21/
LOCATION:Water Street Center\, 407 E. Water St.\, Charlottesville\, VA\, 22902\, United States
CATEGORIES:Calendar,RTAC
END:VEVENT
BEGIN:VEVENT
DTSTART;TZID=America/New_York:20240502T190000
DTEND;TZID=America/New_York:20240502T210000
DTSTAMP:20260419T155205
CREATED:20231106T165518Z
LAST-MODIFIED:20240207T215528Z
UID:12247-1714676400-1714683600@tjpdc.org
SUMMARY:Commission Meeting
DESCRIPTION:The TJPDC is guided by a locally appointed\, twelve member Commission\, of which at least 51% are local elected officials. Member localities include the City of Charlottesville and the Counties of Albemarle\, Fluvanna\, Greene\, Louisa\, and Nelson. Commission meetings\, which are open to the public\, are held the first Thursday of each month at 7 pm in the TJPDC Office. Click here for meeting materials
URL:https://tjpdc.org/events/commission-meeting-2024-05-02/
LOCATION:Water Street Center\, 407 E. Water St.\, Charlottesville\, VA\, 22902\, United States
CATEGORIES:Calendar,Commission Meeting
END:VEVENT
BEGIN:VEVENT
DTSTART;TZID=America/New_York:20240424T140000
DTEND;TZID=America/New_York:20240424T153000
DTSTAMP:20260419T155205
CREATED:20230815T161750Z
LAST-MODIFIED:20240228T162616Z
UID:11816-1713967200-1713972600@tjpdc.org
SUMMARY:RHP Executive Committee
DESCRIPTION:The Regional Housing Partnership (RHP) serves as an official advisory board\, created by the Thomas Jefferson Planning District Commission\, in partnership with the public\, private\, nonprofit\, and citizen stakeholders related to housing. The Regional Housing Partnership (RHP) addresses the housing needs of the Thomas Jefferson Planning District’s region\, with a focus on housing production\, diversity\, accessibility\, cost\, location\, design\, and increasing stability for the region’s residents. \nExecutive Committee\nMeets on the 4th Wednesday of each month at 2pm (except for months the full Partnership meets) \nMeeting Materials \nZoom Meeting\nMeeting ID: 828 1425 1573\nPasscode: 672878 \nDial in on phone: 301-715-8592
URL:https://tjpdc.org/events/rhp-executive-committee-2024-04-24/
LOCATION:Water Street Center\, 407 E. Water St.\, Charlottesville\, VA\, 22902\, United States
CATEGORIES:Calendar,Regional Housing Partnership
END:VEVENT
BEGIN:VEVENT
DTSTART;TZID=America/New_York:20240422T190000
DTEND;TZID=America/New_York:20240422T210000
DTSTAMP:20260419T155205
CREATED:20240415T150019Z
LAST-MODIFIED:20240415T194928Z
UID:13653-1713812400-1713819600@tjpdc.org
SUMMARY:TJPDC Nominating Committee
DESCRIPTION:TJPDC Nominating Committee – Virtual Meeting Only \nClick here for meeting materials
URL:https://tjpdc.org/events/tjpdc-nominating-committee/
LOCATION:Virtual Zoom Meeting
CATEGORIES:Calendar,Commission Meeting
END:VEVENT
BEGIN:VEVENT
DTSTART;TZID=America/New_York:20240404T190000
DTEND;TZID=America/New_York:20240404T210000
DTSTAMP:20260419T155205
CREATED:20231106T165434Z
LAST-MODIFIED:20240207T215505Z
UID:12245-1712257200-1712264400@tjpdc.org
SUMMARY:Commission Meeting
DESCRIPTION:The TJPDC is guided by a locally appointed\, twelve member Commission\, of which at least 51% are local elected officials. Member localities include the City of Charlottesville and the Counties of Albemarle\, Fluvanna\, Greene\, Louisa\, and Nelson. Commission meetings\, which are open to the public\, are held the first Thursday of each month at 7 pm in the TJPDC Office. Click here for meeting materials
URL:https://tjpdc.org/events/commission-meeting-2024-0404/
LOCATION:Water Street Center\, 407 E. Water St.\, Charlottesville\, VA\, 22902\, United States
CATEGORIES:Calendar,Commission Meeting
END:VEVENT
BEGIN:VEVENT
DTSTART;TZID=America/New_York:20240327T140000
DTEND;TZID=America/New_York:20240327T160000
DTSTAMP:20260419T155205
CREATED:20230815T161750Z
LAST-MODIFIED:20240228T162657Z
UID:11820-1711548000-1711555200@tjpdc.org
SUMMARY:Regional Housing Partnership
DESCRIPTION:The Regional Housing Partnership (RHP) serves as an official advisory board\, created by the Thomas Jefferson Planning District Commission\, in partnership with the public\, private\, nonprofit\, and citizen stakeholders related to housing. The Regional Housing Partnership (RHP) addresses the housing needs of the Thomas Jefferson Planning District’s region\, with a focus on housing production\, diversity\, accessibility\, cost\, location\, design\, and increasing stability for the region’s residents.Partnership Meetings (Quarterly)\nIn person and virtual option \nMeeting Materials \nZoom Meeting\nMeeting ID: 942 0440 0481\nPasscode: 416505 \nDial by your location\n+1 301 715 8592 US (Washington D.C)
URL:https://tjpdc.org/events/regional-housing-partnership-15/
LOCATION:Water Street Center\, 407 E. Water St.\, Charlottesville\, VA\, 22902\, United States
CATEGORIES:Calendar,Regional Housing Partnership
END:VEVENT
BEGIN:VEVENT
DTSTART;TZID=America/New_York:20240319T130000
DTEND;TZID=America/New_York:20240319T153000
DTSTAMP:20260419T155205
CREATED:20231106T165946Z
LAST-MODIFIED:20240228T162731Z
UID:12253-1710853200-1710862200@tjpdc.org
SUMMARY:Rural Transportation Advisory Committee
DESCRIPTION:The Rural Transportation Advisory Committee (RTAC)\, is an advisory group for the TJPDC’s Rural Transportation Planning Program. The RTAC includes individuals with technical knowledge in transportation and land use matters. The region’s five counties (Albemarle\, Fluvanna\, Greene\, Louisa and Nelson) are represented on the Committee\, through the local planning director. VDOT\, RideShare and JAUNT also have voting representatives. Meeting Materials
URL:https://tjpdc.org/events/rural-transportation-advisory-committee-2024-03-19/
LOCATION:Water Street Center\, 407 E. Water St.\, Charlottesville\, VA\, 22902\, United States
CATEGORIES:Calendar,RTAC
END:VEVENT
BEGIN:VEVENT
DTSTART;TZID=America/New_York:20240307T190000
DTEND;TZID=America/New_York:20240307T210000
DTSTAMP:20260419T155205
CREATED:20231106T165326Z
LAST-MODIFIED:20240207T215425Z
UID:12242-1709838000-1709845200@tjpdc.org
SUMMARY:Commission Meeting
DESCRIPTION:The TJPDC is guided by a locally appointed\, twelve member Commission\, of which at least 51% are local elected officials. Member localities include the City of Charlottesville and the Counties of Albemarle\, Fluvanna\, Greene\, Louisa\, and Nelson. Commission meetings\, which are open to the public\, are held the first Thursday of each month at 7 pm in the TJPDC Office. Click here for meeting materials
URL:https://tjpdc.org/events/commission-meeting-2024-03-07/
LOCATION:Water Street Center\, 407 E. Water St.\, Charlottesville\, VA\, 22902\, United States
CATEGORIES:Calendar,Commission Meeting
END:VEVENT
BEGIN:VEVENT
DTSTART;TZID=America/New_York:20240228T140000
DTEND;TZID=America/New_York:20240228T153000
DTSTAMP:20260419T155205
CREATED:20230815T161735Z
LAST-MODIFIED:20240228T160849Z
UID:11815-1709128800-1709134200@tjpdc.org
SUMMARY:RHP Executive Committee
DESCRIPTION:The Regional Housing Partnership (RHP) serves as an official advisory board\, created by the Thomas Jefferson Planning District Commission\, in partnership with the public\, private\, nonprofit\, and citizen stakeholders related to housing. The Regional Housing Partnership (RHP) addresses the housing needs of the Thomas Jefferson Planning District’s region\, with a focus on housing production\, diversity\, accessibility\, cost\, location\, design\, and increasing stability for the region’s residents. \nExecutive Committee\nMeets on the 4th Wednesday of each month at 2pm (except for months the full Partnership meets) \nMeeting Materials \nZoom Meeting\nMeeting ID: 828 1425 1573\nPasscode: 672878 \nDial in on phone: 301-715-8592
URL:https://tjpdc.org/events/rhp-executive-committee-2024-02-28/
LOCATION:Water Street Center\, 407 E. Water St.\, Charlottesville\, VA\, 22902\, United States
CATEGORIES:Calendar,Regional Housing Partnership
END:VEVENT
BEGIN:VEVENT
DTSTART;TZID=America/New_York:20240208T190000
DTEND;TZID=America/New_York:20240208T210000
DTSTAMP:20260419T155205
CREATED:20231106T165238Z
LAST-MODIFIED:20240207T215334Z
UID:12240-1707418800-1707426000@tjpdc.org
SUMMARY:*Commission Meeting
DESCRIPTION:*SPECIAL MEETING DATE – The TJPDC is guided by a locally appointed\, twelve member Commission\, of which at least 51% are local elected officials. Member localities include the City of Charlottesville and the Counties of Albemarle\, Fluvanna\, Greene\, Louisa\, and Nelson. Commission meetings\, which are open to the public\, are held the first Thursday of each month at 7 pm in the TJPDC Office.Click here for meeting materials
URL:https://tjpdc.org/events/commission-meeting-2024-02-08/
LOCATION:Water Street Center\, 407 E. Water St.\, Charlottesville\, VA\, 22902\, United States
CATEGORIES:Calendar,Commission Meeting
END:VEVENT
BEGIN:VEVENT
DTSTART;TZID=America/New_York:20240124T140000
DTEND;TZID=America/New_York:20240124T153000
DTSTAMP:20260419T155205
CREATED:20240121T162351Z
LAST-MODIFIED:20240121T162733Z
UID:12893-1706104800-1706110200@tjpdc.org
SUMMARY:RHP Executive Committee
DESCRIPTION:The Regional Housing Partnership (RHP) serves as an official advisory board\, created by the Thomas Jefferson Planning District Commission\, in partnership with the public\, private\, nonprofit\, and citizen stakeholders related to housing. The Regional Housing Partnership (RHP) addresses the housing needs of the Thomas Jefferson Planning District’s region\, with a focus on housing production\, diversity\, accessibility\, cost\, location\, design\, and increasing stability for the region’s residents. \nExecutive Committee\nMeets on the 4th Wednesday of each month at 2pm (except for months the full Partnership meets) \nMeeting Materials \nZoom Meeting\nMeeting ID: 828 1425 1573\nPasscode: 672878 \nDial in on phone: 301-715-8592
URL:https://tjpdc.org/events/rhp-executive-committee-2024-01-24/
LOCATION:Water Street Center\, 407 E. Water St.\, Charlottesville\, VA\, 22902\, United States
CATEGORIES:Calendar,Regional Housing Partnership
END:VEVENT
BEGIN:VEVENT
DTSTART;TZID=America/New_York:20240116T130000
DTEND;TZID=America/New_York:20240116T153000
DTSTAMP:20260419T155205
CREATED:20231106T165804Z
LAST-MODIFIED:20231106T165804Z
UID:12251-1705410000-1705419000@tjpdc.org
SUMMARY:Rural Transportation Advisory Committee
DESCRIPTION:The Rural Transportation Advisory Committee (RTAC)\, is an advisory group for the TJPDC’s Rural Transportation Planning Program. The RTAC includes individuals with technical knowledge in transportation and land use matters. The region’s five counties (Albemarle\, Fluvanna\, Greene\, Louisa and Nelson) are represented on the Committee\, through the local planning director. VDOT\, RideShare and JAUNT also have voting representatives.Meeting Materials
URL:https://tjpdc.org/events/rural-transportation-advisory-committee-2024-01-16/
LOCATION:Water Street Center\, 407 E. Water St.\, Charlottesville\, VA\, 22902\, United States
CATEGORIES:Calendar,RTAC
END:VEVENT
BEGIN:VEVENT
DTSTART;TZID=America/New_York:20231207T190000
DTEND;TZID=America/New_York:20231207T210000
DTSTAMP:20260419T155205
CREATED:20230815T161720Z
LAST-MODIFIED:20230815T165704Z
UID:11809-1701975600-1701982800@tjpdc.org
SUMMARY:Commission Meeting
DESCRIPTION:The TJPDC is guided by a locally appointed\, twelve member Commission\, of which at least 51% are local elected officials. Member localities include the City of Charlottesville and the Counties of Albemarle\, Fluvanna\, Greene\, Louisa\, and Nelson. Commission meetings\, which are open to the public\, are held the first Thursday of each month at 7 pm in the TJPDC Office.Click here for meeting materials
URL:https://tjpdc.org/events/commission-meeting-35/
LOCATION:Water Street Center\, 407 E. Water St.\, Charlottesville\, VA\, 22902\, United States
CATEGORIES:Calendar,Commission Meeting
END:VEVENT
BEGIN:VEVENT
DTSTART;TZID=America/New_York:20231128T130000
DTEND;TZID=America/New_York:20231128T153000
DTSTAMP:20260419T155205
CREATED:20230815T161705Z
LAST-MODIFIED:20231121T223257Z
UID:11803-1701176400-1701185400@tjpdc.org
SUMMARY:Rural Transportation Advisory Committee
DESCRIPTION:The Rural Transportation Advisory Committee (RTAC)\, is an advisory group for the TJPDC’s Rural Transportation Planning Program. The RTAC includes individuals with technical knowledge in transportation and land use matters. The region’s five counties (Albemarle\, Fluvanna\, Greene\, Louisa and Nelson) are represented on the Committee\, through the local planning director. VDOT\, RideShare and JAUNT also have voting representatives.Meeting Materials \n***This is a virtual meeting only (not in person).
URL:https://tjpdc.org/events/rural-transportation-advisory-committee-17/
LOCATION:Virtual Zoom Meeting
CATEGORIES:Calendar,RTAC
END:VEVENT
BEGIN:VEVENT
DTSTART;TZID=America/New_York:20231108T140000
DTEND;TZID=America/New_York:20231108T160000
DTSTAMP:20260419T155205
CREATED:20230915T172120Z
LAST-MODIFIED:20230915T172120Z
UID:12028-1699452000-1699459200@tjpdc.org
SUMMARY:Regional Housing Partnership
DESCRIPTION:The Regional Housing Partnership (RHP) serves as an official advisory board\, created by the Thomas Jefferson Planning District Commission\, in partnership with the public\, private\, nonprofit\, and citizen stakeholders related to housing. The Regional Housing Partnership (RHP) addresses the housing needs of the Thomas Jefferson Planning District’s region\, with a focus on housing production\, diversity\, accessibility\, cost\, location\, design\, and increasing stability for the region’s residents. \nPartnership Meetings (Quarterly)\nIn person and virtual option \nMeeting Materials \nZoom Meeting\nMeeting ID: 882 8318 0476\nPasscode: 690556 \nDial by your location\n+1 301 715 8592 US (Washington D.C)
URL:https://tjpdc.org/events/regional-housing-partnership-2023-11-08/
LOCATION:Water Street Center\, 407 E. Water St.\, Charlottesville\, VA\, 22902\, United States
CATEGORIES:Calendar,Regional Housing Partnership
END:VEVENT
BEGIN:VEVENT
DTSTART;TZID=America/New_York:20231102T190000
DTEND;TZID=America/New_York:20231102T210000
DTSTAMP:20260419T155205
CREATED:20230815T161720Z
LAST-MODIFIED:20230815T165552Z
UID:11808-1698951600-1698958800@tjpdc.org
SUMMARY:Commission Meeting
DESCRIPTION:The TJPDC is guided by a locally appointed\, twelve member Commission\, of which at least 51% are local elected officials. Member localities include the City of Charlottesville and the Counties of Albemarle\, Fluvanna\, Greene\, Louisa\, and Nelson. Commission meetings\, which are open to the public\, are held the first Thursday of each month at 7 pm in the TJPDC Office.Click here for meeting materials
URL:https://tjpdc.org/events/commission-meeting-34/
LOCATION:Water Street Center\, 407 E. Water St.\, Charlottesville\, VA\, 22902\, United States
CATEGORIES:Calendar,Commission Meeting
END:VEVENT
BEGIN:VEVENT
DTSTART;TZID=America/New_York:20231102T180000
DTEND;TZID=America/New_York:20231102T190000
DTSTAMP:20260419T155205
CREATED:20231030T230915Z
LAST-MODIFIED:20231031T172701Z
UID:12229-1698948000-1698951600@tjpdc.org
SUMMARY:Commission Finance/Executive Committee Meeting
DESCRIPTION:The TJPDC is guided by a locally appointed\, twelve member Commission\, of which at least 51% are local elected officials. Member localities include the City of Charlottesville and the Counties of Albemarle\, Fluvanna\, Greene\, Louisa\, and Nelson. Commission meetings\, which are open to the public\, are held the first Thursday of each month at 7 pm in the TJPDC Office. Click here for meeting materials
URL:https://tjpdc.org/events/commission-finance-executive-committee-meeting/
LOCATION:Water Street Center\, 407 E. Water St.\, Charlottesville\, VA\, 22902\, United States
CATEGORIES:Calendar,Commission Meeting
END:VEVENT
BEGIN:VEVENT
DTSTART;TZID=America/New_York:20231005T190000
DTEND;TZID=America/New_York:20231005T210000
DTSTAMP:20260419T155205
CREATED:20230815T161720Z
LAST-MODIFIED:20230815T165823Z
UID:11807-1696532400-1696539600@tjpdc.org
SUMMARY:Commission Meeting
DESCRIPTION:The TJPDC is guided by a locally appointed\, twelve member Commission\, of which at least 51% are local elected officials. Member localities include the City of Charlottesville and the Counties of Albemarle\, Fluvanna\, Greene\, Louisa\, and Nelson. Commission meetings\, which are open to the public\, are held the first Thursday of each month at 7 pm in the TJPDC Office.Click here for meeting materials
URL:https://tjpdc.org/events/commission-meeting-33/
LOCATION:Water Street Center\, 407 E. Water St.\, Charlottesville\, VA\, 22902\, United States
CATEGORIES:Calendar,Commission Meeting
END:VEVENT
BEGIN:VEVENT
DTSTART;TZID=America/New_York:20230927T140000
DTEND;TZID=America/New_York:20230927T153000
DTSTAMP:20260419T155205
CREATED:20230815T161750Z
LAST-MODIFIED:20230915T172937Z
UID:11818-1695823200-1695828600@tjpdc.org
SUMMARY:RHP Executive Committee
DESCRIPTION:The Regional Housing Partnership (RHP) serves as an official advisory board\, created by the Thomas Jefferson Planning District Commission\, in partnership with the public\, private\, nonprofit\, and citizen stakeholders related to housing. The Regional Housing Partnership (RHP) addresses the housing needs of the Thomas Jefferson Planning District’s region\, with a focus on housing production\, diversity\, accessibility\, cost\, location\, design\, and increasing stability for the region’s residents. \nExecutive Committee\nMeets on the 4th Wednesday of each month at 2pm (except for months the full Partnership meets) \nMeeting Materials \nZoom Meeting\nMeeting ID: 815 2310 8467\nPasscode: 095481 \nDial by your location\n+1 301 715 8592 US (Washington D.C)
URL:https://tjpdc.org/events/rhp-executive-committee-2023-09-27/
LOCATION:Water Street Center\, 407 E. Water St.\, Charlottesville\, VA\, 22902\, United States
CATEGORIES:Calendar,Regional Housing Partnership
END:VEVENT
BEGIN:VEVENT
DTSTART;TZID=America/New_York:20230919T130000
DTEND;TZID=America/New_York:20230919T153000
DTSTAMP:20260419T155205
CREATED:20230815T161705Z
LAST-MODIFIED:20230815T165608Z
UID:11802-1695128400-1695137400@tjpdc.org
SUMMARY:Rural Transportation Advisory Committee
DESCRIPTION:The Rural Transportation Advisory Committee (RTAC)\, is an advisory group for the TJPDC’s Rural Transportation Planning Program. The RTAC includes individuals with technical knowledge in transportation and land use matters. The region’s five counties (Albemarle\, Fluvanna\, Greene\, Louisa and Nelson) are represented on the Committee\, through the local planning director. VDOT\, RideShare and JAUNT also have voting representatives.Meeting Materials
URL:https://tjpdc.org/events/rural-transportation-advisory-committee-16/
LOCATION:Water Street Center\, 407 E. Water St.\, Charlottesville\, VA\, 22902\, United States
CATEGORIES:Calendar,RTAC
END:VEVENT
BEGIN:VEVENT
DTSTART;TZID=America/New_York:20230907T190000
DTEND;TZID=America/New_York:20230907T210000
DTSTAMP:20260419T155205
CREATED:20230815T161720Z
LAST-MODIFIED:20230815T163437Z
UID:11806-1694113200-1694120400@tjpdc.org
SUMMARY:Commission Meeting
DESCRIPTION:The TJPDC is guided by a locally appointed\, twelve member Commission\, of which at least 51% are local elected officials. Member localities include the City of Charlottesville and the Counties of Albemarle\, Fluvanna\, Greene\, Louisa\, and Nelson. Commission meetings\, which are open to the public\, are held the first Thursday of each month at 7 pm in the TJPDC Office.Click here for meeting materials
URL:https://tjpdc.org/events/commission-meeting-32/
LOCATION:Water Street Center\, 407 E. Water St.\, Charlottesville\, VA\, 22902\, United States
CATEGORIES:Calendar,Commission Meeting
END:VEVENT
BEGIN:VEVENT
DTSTART;TZID=America/New_York:20220207T153000
DTEND;TZID=America/New_York:20220207T170000
DTSTAMP:20260419T155205
CREATED:20230815T161605Z
LAST-MODIFIED:20230815T161605Z
UID:11781-1644247800-1644253200@tjpdc.org
SUMMARY:Are We Prepared? Hazard Mitigation
DESCRIPTION:Public Meeting: Making Our Community More Resilient to Natural Disasters \n\nZoom Meeting Registration\nMeeting Agenda
URL:https://tjpdc.org/events/are-we-prepared-hazard-mitigation/
CATEGORIES:Calendar
END:VEVENT
BEGIN:VEVENT
DTSTART;TZID=America/New_York:20211007T090000
DTEND;TZID=America/New_York:20211007T113000
DTSTAMP:20260419T155205
CREATED:20230815T161435Z
LAST-MODIFIED:20230815T161435Z
UID:11753-1633597200-1633606200@tjpdc.org
SUMMARY:Regional Transit Vision Plan Stakeholder Meeting
DESCRIPTION:The Thomas Jefferson Planning District Commission and Regional Transit Partnership is hosting a stakeholder meeting for the Regional Transit Vision Plan for the Charlottesville Area. This meeting will take place from 9:00 am to 11:30 am on October 7th in place of the October 28th Regional Transit Partnership meeting.You can learn more about this initiative to create a regional vision around transit services on the project website.  The public will be able to view this meeting live on YouTube and a recording will be posted on the project website after the meeting. There will also be public meetings for this project this winter. \nWe invite you to visit the project website and take the two surveys on the website.
URL:https://tjpdc.org/events/regional-transit-vision-plan-stakeholder-meeting/
CATEGORIES:Calendar
END:VEVENT
BEGIN:VEVENT
DTSTART;TZID=America/New_York:20210510T173000
DTEND;TZID=America/New_York:20210510T183000
DTSTAMP:20260419T155205
CREATED:20230815T161350Z
LAST-MODIFIED:20230815T161350Z
UID:11738-1620667800-1620671400@tjpdc.org
SUMMARY:Webinar: Transportation Funding and SMART SCALE Selection Process
DESCRIPTION:Webinar Date: Monday May 10th from 5:30 pm to 6:30 pmJoin the Charlottesville\, Albemarle\, and CA-MPO staff to learn about the CA-MPO’s process for selecting transportation projects for round five SMART SCALE applications. You will also hear about the projects being considered. \nIn this Charlottesville Albemarle Metropolitan Planning Organization (CA-MPO) sponsored event\, you will learn about: \n\nthe SMART SCALE transportation funding process\,\nthe CA-MPO’s project selection process\,\nreview the potential list of projects that will be brought to the CA-MPO Policy Board for consideration\,\nask questions about the process\, specific projects\, and\nprovide your feedback.\n\nUse this link to join the Zoom event\,\nWebinar Passcode: Smart Scale.\nOr Telephone: 312.626.6799 \nWebinar ID: 839 1729 8944\nPhone Passcode: 7381507455 \nContact Lucinda Shannon\, TJPDC Senior Regional Planner with questions\, lshannon@dev.tjpdc.org or (434) 979-0654
URL:https://tjpdc.org/events/webinar-transportation-funding-and-smart-scale-selection-process/
CATEGORIES:Calendar
END:VEVENT
BEGIN:VEVENT
DTSTART;TZID=America/New_York:20200708T100000
DTEND;TZID=America/New_York:20200708T120000
DTSTAMP:20260419T155205
CREATED:20230815T161140Z
LAST-MODIFIED:20230815T161140Z
UID:11696-1594202400-1594209600@tjpdc.org
SUMMARY:Regional Housing Partnership
DESCRIPTION:The Regional Housing Partnership (RHP) serves as an official advisory board\, created by the Thomas Jefferson Planning District Commission\, in partnership with the public\, private\, nonprofit\, and citizen stakeholders related to housing. The Regional Housing Partnership (RHP) will address the housing needs of the Thomas Jefferson Planning District’s region\, with a focus on housing production\, diversity\, accessibility\, cost\, location\, design\, and increasing stability for the region’s residents.At their September 6 meeting\, the TJPD Commission approved the Operational Framework for the Regional Housing Partnership (RHP). Support for the creation of the RHP came out of the Action Forum held in April 2018\, as part of the TomTom Founders Festival’s Hometown Summit. \nKey work products of the RHP will be a Regional Housing Needs Analysis\, a Regional Housing Plan\, and semi-annual Regional Housing Summits.
URL:https://tjpdc.org/events/regional-housing-partnership/
CATEGORIES:Calendar
END:VEVENT
END:VCALENDAR