BEGIN:VCALENDAR
VERSION:2.0
PRODID:-//Thomas Jefferson Planning District Commission - ECPv6.15.13//NONSGML v1.0//EN
CALSCALE:GREGORIAN
METHOD:PUBLISH
X-ORIGINAL-URL:https://tjpdc.org
X-WR-CALDESC:Events for Thomas Jefferson Planning District Commission
REFRESH-INTERVAL;VALUE=DURATION:PT1H
X-Robots-Tag:noindex
X-PUBLISHED-TTL:PT1H
BEGIN:VTIMEZONE
TZID:America/New_York
BEGIN:DAYLIGHT
TZOFFSETFROM:-0500
TZOFFSETTO:-0400
TZNAME:EDT
DTSTART:20210314T070000
END:DAYLIGHT
BEGIN:STANDARD
TZOFFSETFROM:-0400
TZOFFSETTO:-0500
TZNAME:EST
DTSTART:20211107T060000
END:STANDARD
BEGIN:DAYLIGHT
TZOFFSETFROM:-0500
TZOFFSETTO:-0400
TZNAME:EDT
DTSTART:20220313T070000
END:DAYLIGHT
BEGIN:STANDARD
TZOFFSETFROM:-0400
TZOFFSETTO:-0500
TZNAME:EST
DTSTART:20221106T060000
END:STANDARD
BEGIN:DAYLIGHT
TZOFFSETFROM:-0500
TZOFFSETTO:-0400
TZNAME:EDT
DTSTART:20230312T070000
END:DAYLIGHT
BEGIN:STANDARD
TZOFFSETFROM:-0400
TZOFFSETTO:-0500
TZNAME:EST
DTSTART:20231105T060000
END:STANDARD
END:VTIMEZONE
BEGIN:VEVENT
DTSTART;TZID=America/New_York:20220706T140000
DTEND;TZID=America/New_York:20220706T143000
DTSTAMP:20260425T151543
CREATED:20230815T161605Z
LAST-MODIFIED:20230815T161605Z
UID:11784-1657116000-1657117800@tjpdc.org
SUMMARY:Regional Housing Partnership
DESCRIPTION:The Regional Housing Partnership (RHP) serves as an official advisory board\, created by the Thomas Jefferson Planning District Commission\, in partnership with the public\, private\, nonprofit\, and citizen stakeholders related to housing. The Regional Housing Partnership (RHP) addresses the housing needs of the Thomas Jefferson Planning District’s region\, with a focus on housing production\, diversity\, accessibility\, cost\, location\, design\, and increasing stability for the region’s residents.Meeting Materials \nZoom Meeting\nMeeting ID: 942 0440 0481\nPasscode: 416505 \nDial by your location\n+1 301 715 8592
URL:https://tjpdc.org/events/regional-housing-partnership-11/
LOCATION:VA
END:VEVENT
BEGIN:VEVENT
DTSTART;TZID=America/New_York:20220726T130000
DTEND;TZID=America/New_York:20220726T150000
DTSTAMP:20260425T151543
CREATED:20230815T161550Z
LAST-MODIFIED:20230815T161550Z
UID:11779-1658840400-1658847600@tjpdc.org
SUMMARY:Rural Transportation Advisory Committee
DESCRIPTION:The Rural Transportation Advisory Committee (RTAC)\, is an advisory group for the TJPDC’s Rural Transportation Planning Program. The RTAC includes individuals with technical knowledge in transportation and land use matters. The region’s five counties (Albemarle\, Fluvanna\, Greene\, Louisa and Nelson) are represented on the Committee\, through the local planning director. VDOT\, RideShare and JAUNT also have voting representatives.Meeting Materials
URL:https://tjpdc.org/events/rural-transportation-advisory-committee-10/
LOCATION:VA
END:VEVENT
BEGIN:VEVENT
DTSTART;TZID=America/New_York:20220727T140000
DTEND;TZID=America/New_York:20220727T150000
DTSTAMP:20260425T151543
CREATED:20230815T161521Z
LAST-MODIFIED:20230815T161521Z
UID:11770-1658930400-1658934000@tjpdc.org
SUMMARY:RHP Executive Committee
DESCRIPTION:The Regional Housing Partnership (RHP) serves as an official advisory board\, created by the Thomas Jefferson Planning District Commission\, in partnership with the public\, private\, nonprofit\, and citizen stakeholders related to housing. The Regional Housing Partnership (RHP) addresses the housing needs of the Thomas Jefferson Planning District’s region\, with a focus on housing production\, diversity\, accessibility\, cost\, location\, design\, and increasing stability for the region’s residents.Executive Committee\nMeets on the 4th Wednesday of each month at 2pm (except for months the full Partnership meets) \nMeeting Materials \nZoom Meeting\nMeeting ID: 600 416 965\nPasscode: 142128 \nOne tap mobile\n+16699009128\,\,600416965#\,\,\,\,\,\,0#\,\,142128# US (San Jose)\n+12532158782\,\,600416965#\,\,\,\,\,\,0#\,\,142128# US (Tacoma) \nDial by your location\n+1 301 715 8592 US (Washington D.C)
URL:https://tjpdc.org/events/rhp-executive-committee-13/
LOCATION:VA
END:VEVENT
END:VCALENDAR