BEGIN:VCALENDAR
VERSION:2.0
PRODID:-//Thomas Jefferson Planning District Commission - ECPv6.15.13//NONSGML v1.0//EN
CALSCALE:GREGORIAN
METHOD:PUBLISH
X-WR-CALNAME:Thomas Jefferson Planning District Commission
X-ORIGINAL-URL:https://tjpdc.org
X-WR-CALDESC:Events for Thomas Jefferson Planning District Commission
REFRESH-INTERVAL;VALUE=DURATION:PT1H
X-Robots-Tag:noindex
X-PUBLISHED-TTL:PT1H
BEGIN:VTIMEZONE
TZID:America/New_York
BEGIN:DAYLIGHT
TZOFFSETFROM:-0500
TZOFFSETTO:-0400
TZNAME:EDT
DTSTART:20210314T070000
END:DAYLIGHT
BEGIN:STANDARD
TZOFFSETFROM:-0400
TZOFFSETTO:-0500
TZNAME:EST
DTSTART:20211107T060000
END:STANDARD
BEGIN:DAYLIGHT
TZOFFSETFROM:-0500
TZOFFSETTO:-0400
TZNAME:EDT
DTSTART:20220313T070000
END:DAYLIGHT
BEGIN:STANDARD
TZOFFSETFROM:-0400
TZOFFSETTO:-0500
TZNAME:EST
DTSTART:20221106T060000
END:STANDARD
BEGIN:DAYLIGHT
TZOFFSETFROM:-0500
TZOFFSETTO:-0400
TZNAME:EDT
DTSTART:20230312T070000
END:DAYLIGHT
BEGIN:STANDARD
TZOFFSETFROM:-0400
TZOFFSETTO:-0500
TZNAME:EST
DTSTART:20231105T060000
END:STANDARD
END:VTIMEZONE
BEGIN:VEVENT
DTSTART;TZID=America/New_York:20221201T190000
DTEND;TZID=America/New_York:20221201T210000
DTSTAMP:20260423T050530
CREATED:20230815T161515Z
LAST-MODIFIED:20230815T161515Z
UID:11763-1669921200-1669928400@tjpdc.org
SUMMARY:Commission Meeting
DESCRIPTION:The TJPDC is guided by a locally appointed\, twelve member Commission\, of which at least 51% are local elected officials. Member localities include the City of Charlottesville and the Counties of Albemarle\, Fluvanna\, Greene\, Louisa\, and Nelson. Commission meetings\, which are open to the public\, are held the first Thursday of each month at 7 pm in the TJPDC Office.Click here for meeting materials
URL:https://tjpdc.org/events/commission-meeting-24/
LOCATION:VA
END:VEVENT
BEGIN:VEVENT
DTSTART;TZID=America/New_York:20221205T130000
DTEND;TZID=America/New_York:20221205T143000
DTSTAMP:20260423T050530
CREATED:20230815T161550Z
LAST-MODIFIED:20230815T161550Z
UID:11777-1670245200-1670250600@tjpdc.org
SUMMARY:Regional Housing Partnership
DESCRIPTION:The Regional Housing Partnership (RHP) serves as an official advisory board\, created by the Thomas Jefferson Planning District Commission\, in partnership with the public\, private\, nonprofit\, and citizen stakeholders related to housing. The Regional Housing Partnership (RHP) addresses the housing needs of the Thomas Jefferson Planning District’s region\, with a focus on housing production\, diversity\, accessibility\, cost\, location\, design\, and increasing stability for the region’s residents.Partnership Meetings (Quarterly)\nMeets on the 4th Wednesday of the last month of each quarter from 2:00 p.m. – 3:30 p.m. \nMeeting Materials \nZoom Meeting\nMeeting ID: 815 2091 8512\nPasscode: 376791 \nOne tap mobile\n+13017158592\,\,81520918512#\,\,\,\,\,\,0#\,\,376791# US (Washington D.C) \nDial by your location\n+1 301 715 8592 US (Washington D.C)
URL:https://tjpdc.org/events/regional-housing-partnership-10/
LOCATION:VA
END:VEVENT
END:VCALENDAR