BEGIN:VCALENDAR
VERSION:2.0
PRODID:-//Thomas Jefferson Planning District Commission - ECPv6.15.13//NONSGML v1.0//EN
CALSCALE:GREGORIAN
METHOD:PUBLISH
X-ORIGINAL-URL:https://tjpdc.org
X-WR-CALDESC:Events for Thomas Jefferson Planning District Commission
REFRESH-INTERVAL;VALUE=DURATION:PT1H
X-Robots-Tag:noindex
X-PUBLISHED-TTL:PT1H
BEGIN:VTIMEZONE
TZID:America/New_York
BEGIN:DAYLIGHT
TZOFFSETFROM:-0500
TZOFFSETTO:-0400
TZNAME:EDT
DTSTART:20220313T070000
END:DAYLIGHT
BEGIN:STANDARD
TZOFFSETFROM:-0400
TZOFFSETTO:-0500
TZNAME:EST
DTSTART:20221106T060000
END:STANDARD
BEGIN:DAYLIGHT
TZOFFSETFROM:-0500
TZOFFSETTO:-0400
TZNAME:EDT
DTSTART:20230312T070000
END:DAYLIGHT
BEGIN:STANDARD
TZOFFSETFROM:-0400
TZOFFSETTO:-0500
TZNAME:EST
DTSTART:20231105T060000
END:STANDARD
BEGIN:DAYLIGHT
TZOFFSETFROM:-0500
TZOFFSETTO:-0400
TZNAME:EDT
DTSTART:20240310T070000
END:DAYLIGHT
BEGIN:STANDARD
TZOFFSETFROM:-0400
TZOFFSETTO:-0500
TZNAME:EST
DTSTART:20241103T060000
END:STANDARD
END:VTIMEZONE
BEGIN:VEVENT
DTSTART;TZID=America/New_York:20230711T130000
DTEND;TZID=America/New_York:20230711T153000
DTSTAMP:20260420T213818
CREATED:20230815T161705Z
LAST-MODIFIED:20230815T161705Z
UID:11801-1689080400-1689089400@tjpdc.org
SUMMARY:Rural Transportation Advisory Committee
DESCRIPTION:The Rural Transportation Advisory Committee (RTAC)\, is an advisory group for the TJPDC’s Rural Transportation Planning Program. The RTAC includes individuals with technical knowledge in transportation and land use matters. The region’s five counties (Albemarle\, Fluvanna\, Greene\, Louisa and Nelson) are represented on the Committee\, through the local planning director. VDOT\, RideShare and JAUNT also have voting representatives.Meeting Materials
URL:https://tjpdc.org/events/rural-transportation-advisory-committee-15/
LOCATION:VA
END:VEVENT
BEGIN:VEVENT
DTSTART;TZID=America/New_York:20230712T130000
DTEND;TZID=America/New_York:20230712T170000
DTSTAMP:20260420T213818
CREATED:20230815T161735Z
LAST-MODIFIED:20230815T161735Z
UID:11813-1689166800-1689181200@tjpdc.org
SUMMARY:Albemarle Developer Incentives Work Session
DESCRIPTION:Agenda Packet\nSupporting Materials
URL:https://tjpdc.org/events/albemarle-developer-incentives-work-session/
LOCATION:VA
END:VEVENT
BEGIN:VEVENT
DTSTART;TZID=America/New_York:20230726T140000
DTEND;TZID=America/New_York:20230726T153000
DTSTAMP:20260420T213818
CREATED:20230815T161650Z
LAST-MODIFIED:20230815T161650Z
UID:11797-1690380000-1690385400@tjpdc.org
SUMMARY:RHP Executive Committee
DESCRIPTION:The Regional Housing Partnership (RHP) serves as an official advisory board\, created by the Thomas Jefferson Planning District Commission\, in partnership with the public\, private\, nonprofit\, and citizen stakeholders related to housing. The Regional Housing Partnership (RHP) addresses the housing needs of the Thomas Jefferson Planning District’s region\, with a focus on housing production\, diversity\, accessibility\, cost\, location\, design\, and increasing stability for the region’s residents.Executive Committee\nMeets on the 4th Wednesday of each month at 2pm (except for months the full Partnership meets) \nMeeting Materials \nZoom Meeting\nMeeting ID: 812 2773 1451\nPasscode: 072155 \nOne tap mobile\n+16465588656\,\,81227731451#\,\,\,\,*072155# US (New York) \nDial by your location\n+1 301 715 8592 US (Washington D.C)
URL:https://tjpdc.org/events/rhp-executive-committee-22/
LOCATION:VA
END:VEVENT
END:VCALENDAR