BEGIN:VCALENDAR
VERSION:2.0
PRODID:-//Thomas Jefferson Planning District Commission - ECPv6.15.13//NONSGML v1.0//EN
CALSCALE:GREGORIAN
METHOD:PUBLISH
X-WR-CALNAME:Thomas Jefferson Planning District Commission
X-ORIGINAL-URL:https://tjpdc.org
X-WR-CALDESC:Events for Thomas Jefferson Planning District Commission
REFRESH-INTERVAL;VALUE=DURATION:PT1H
X-Robots-Tag:noindex
X-PUBLISHED-TTL:PT1H
BEGIN:VTIMEZONE
TZID:America/New_York
BEGIN:DAYLIGHT
TZOFFSETFROM:-0500
TZOFFSETTO:-0400
TZNAME:EDT
DTSTART:20240310T070000
END:DAYLIGHT
BEGIN:STANDARD
TZOFFSETFROM:-0400
TZOFFSETTO:-0500
TZNAME:EST
DTSTART:20241103T060000
END:STANDARD
BEGIN:DAYLIGHT
TZOFFSETFROM:-0500
TZOFFSETTO:-0400
TZNAME:EDT
DTSTART:20250309T070000
END:DAYLIGHT
BEGIN:STANDARD
TZOFFSETFROM:-0400
TZOFFSETTO:-0500
TZNAME:EST
DTSTART:20251102T060000
END:STANDARD
BEGIN:DAYLIGHT
TZOFFSETFROM:-0500
TZOFFSETTO:-0400
TZNAME:EDT
DTSTART:20260308T070000
END:DAYLIGHT
BEGIN:STANDARD
TZOFFSETFROM:-0400
TZOFFSETTO:-0500
TZNAME:EST
DTSTART:20261101T060000
END:STANDARD
END:VTIMEZONE
BEGIN:VEVENT
DTSTART;TZID=America/New_York:20250904T190000
DTEND;TZID=America/New_York:20250904T210000
DTSTAMP:20260419T235207
CREATED:20250129T190303Z
LAST-MODIFIED:20250129T190303Z
UID:18761-1757012400-1757019600@tjpdc.org
SUMMARY:Commission Meeting
DESCRIPTION:The TJPDC is guided by a locally appointed\, twelve member Commission\, of which at least 51% are local elected officials. Member localities include the City of Charlottesville and the Counties of Albemarle\, Fluvanna\, Greene\, Louisa\, and Nelson. Commission meetings\, which are open to the public\, are held the first Thursday of each month at 7 pm in the TJPDC Office. Click here for meeting materials
URL:https://tjpdc.org/events/commission-meeting-2025-09-04/
LOCATION:Water Street Center\, 407 E. Water St.\, Charlottesville\, VA\, 22902\, United States
CATEGORIES:Calendar,Commission Meeting
END:VEVENT
BEGIN:VEVENT
DTSTART;TZID=America/New_York:20250924T140000
DTEND;TZID=America/New_York:20250924T160000
DTSTAMP:20260419T235207
CREATED:20250922T164514Z
LAST-MODIFIED:20250924T180421Z
UID:19896-1758722400-1758729600@tjpdc.org
SUMMARY:RHP Full Partnership Meeting
DESCRIPTION:The Regional Housing Partnership (RHP) serves as an official advisory board\, created by the Thomas Jefferson Planning District Commission\, in partnership with the public\, private\, nonprofit\, and citizen stakeholders related to housing. The Regional Housing Partnership (RHP) addresses the housing needs of the Thomas Jefferson Planning District’s region\, with a focus on housing production\, diversity\, accessibility\, cost\, location\, design\, and increasing stability for the region’s residents. \nMeeting Materials \nZoom Meeting \nDial by your location\n+1 301 715 8592 US
URL:https://tjpdc.org/events/rhp-full-partnership-meeting-2025-09-24/
LOCATION:Water Street Center\, 407 E. Water St.\, Charlottesville\, VA\, 22902\, United States
CATEGORIES:Calendar,Regional Housing Partnership
END:VEVENT
BEGIN:VEVENT
DTSTART;TZID=America/New_York:20250924T190000
DTEND;TZID=America/New_York:20250924T210000
DTSTAMP:20260419T235207
CREATED:20250129T175328Z
LAST-MODIFIED:20250924T175811Z
UID:18741-1758740400-1758747600@tjpdc.org
SUMMARY:Citizens Advisory Committee
DESCRIPTION:The Citizens Transportation Advisory Committee is the designated citizen’s committee of the MPO. This group reviews\, comments\, and recommends ideas on transportation plans\, programs\, studies and other appropriate documents. CTAC raises transportation issues and concerns from their communities. These recommendations go on to advise and aid the MPO Policy Board in their decision-making. \nThe Citizens Transportation Advisory Committee meets on alternating months\, 7:00 p.m. at the Water Street Center\, 407 E. Water Street  Charlottesville\, VA 22902 \nMeeting Materials
URL:https://tjpdc.org/events/citizens-advisory-committee-2025-09-24/
LOCATION:Water Street Center\, 407 E. Water St.\, Charlottesville\, VA\, 22902\, United States
CATEGORIES:Calendar
END:VEVENT
BEGIN:VEVENT
DTSTART;TZID=America/New_York:20250925T170000
DTEND;TZID=America/New_York:20250925T180000
DTSTAMP:20260419T235207
CREATED:20250331T183353Z
LAST-MODIFIED:20250331T183353Z
UID:19162-1758819600-1758823200@tjpdc.org
SUMMARY:Charlottesville Albemarle Regional Transit Authority
DESCRIPTION:CARTA meets the 4th Thursday of the odd numbered months at 5 p.m. in the TJPDC’s conference room 1. Guests can view the meeting on Zoom as well as in person. See the meeting agenda for Zoom connection information. \nThe CA-MPO meetings are conducted in accessible locations and materials can be provided in accessible formats and in languages other than English. If you would like accessibility or language accommodation\, please contact the Title VI Coordinator at info@tjpdc.org or 434-979-7310. \nMeeting Materials
URL:https://tjpdc.org/events/carta-2025-09-25/
LOCATION:Water Street Center\, 407 E. Water St.\, Charlottesville\, VA\, 22902\, United States
CATEGORIES:Calendar,CARTA
END:VEVENT
BEGIN:VEVENT
DTSTART;TZID=America/New_York:20250930T100000
DTEND;TZID=America/New_York:20250930T120000
DTSTAMP:20260419T235207
CREATED:20250926T160241Z
LAST-MODIFIED:20250926T160241Z
UID:19989-1759226400-1759233600@tjpdc.org
SUMMARY:CA-MPO and SAW MPO Joint Meeting
DESCRIPTION:A joint CA-MPO and SAW MPO Policy Board/Technical Committee meeting will be held on September 30 from 10 – noon at the North Fork Meeting Center\, 994 Research Park Blvd.\, Charlottesville\, VA. \nMeeting Materials \nZoom Virtual Meeting Link
URL:https://tjpdc.org/events/campo-sawmpo-joint-meeting/
LOCATION:UVA North Fork Meeting Room\, 994 Research Park Boulevard\, Charlottesville\, 22911\, United States
CATEGORIES:Calendar
END:VEVENT
END:VCALENDAR